BEGIN:VCALENDAR
VERSION:2.0
PRODID:-//wp-events-plugin.com//7.2.3.1//EN
BEGIN:VEVENT
UID:193@wsf-neptun-koeln.de
DTSTART;VALUE=DATE:20260606
DTEND;VALUE=DATE:20260608
DTSTAMP:20260324T232720Z
URL:https://wsf-neptun-koeln.de/buchung/buchung-jugend-schnuppertag-2-info
SUMMARY:INFOS zum: 2. Jugend Schnuppertag (bei Bedarf)
DESCRIPTION:2. Jugend-Schnupper-Tag/-Wochenende\n\n\nAm Wochenende nach uns
 erem Tag der offenen Tür (-&gt\; immer Fronleichnam ... Beitrag vom Vorja
 hr) bieten wir einen Jugendschnupperkurs  mit unserer Jugendübungsleite
 rin und einem Teil unserer Vereinsjugend an.\n\nDie geplante Grundstruktur
  ist ähnlich wie bei den Anfängerkursen für Erwachsenen und soll neben 
 ersten Paddelerfahrungen auch das Hineinschnuppern in die schon bestehende
  Trainingsgruppe und Ausblick auf weitere erlernbare Paddelfertigkeiten er
 möglichen.\nSamstag 06.06.2026\nAblauf 1.Tag:\n\n 	10:00 Treffen beim WSF
  Neptun\n 	Kennenlernen und „Material-Zuordnung und -Anpassung“\n\n 	A
 ufladen und Abfahrt in Richtung See\n\n\n 	Am See\n\n 	Abladen\n 	Picknick
 /Stärkung &amp\; Einweisung\n 	schnell nochmal alle auf’s Klo … und S
 tart auf’s/in’s Wasser\n 	Angeleitete Experimente rund um’s sichere 
 und angsfreie Ein- und Aussteigen\n 	paddeln und spielen im Boot\, mit und
  ohne Ball ...\n 	Gezieltes Anfahren bestimmter Punkte und gemeinsame Fahr
 t in der Gruppe\, auf dem See zum Üben des sicheren Fahrens als Gruppe.\n
 \n\n 	Zum Schluss\n\n 	Aufladen &amp\; erneute Stärkung\n 	danach: Abhol-
 Information an die Eltern und Rücktransport zum Verein\n 	Dort: Abladen\,
  aller am Folgetag nicht benötigter Boote\nund zum Trocknen Aufhängen de
 s nassen Materials ...\n\n\n 	ca. 18-19:00 voraussichtliches Ende der Vera
 nstaltung\, am WSF Neptun (Zeit je nach Ausdauer/Lust der Gruppe)\n\n+ ev.
  Sonntag 07.06.2026\n(Teilnahme abhängig von Können und Ausdauer ...)\n\
 nAblauf 2. Tag:\n\n 	10:00 Treffen beim WSF Neptun\n\n 	Einladen der hoffe
 ntlich wieder trockenen Paddelsachen ...\n 	falls nötig: letzte Absprache
 n vor der Abfahrt ...\n 	... und Abfahrt in Richtung Kleinfluss\n\n\n 	Am 
 Kleinfluss\n(welcher hängt vom Wetter/Pegel ab)\n\n 	Abladen/Umziehen -&g
 t\; ev. nur im Bus/Auto möglich ...\n 	Einweisung (Wiederholung: Abstands
 regeln\, Handzeichen ...) und in die Boote- Packen des - bitte wasserdicht
  verpackten! - Picknicks ...\n...während d. Auto-Umsetzens durch die Fahr
 er*innen\n 	Toiletten wird gibt vor Ort ev. nicht\, wohl aber den ein oder
  anderen Busch\, falls nötig …\n 	Einsteigen und Sammeln auf dem Wasser
 \n 	Gemeinsame Fahrt in der Gruppe bis zu Picknick-/Pausen-Stelle\n 	Unter
 wegs Üben des sicheren Fahr\n 	ens als Gruppe auf dem Fließgewässer\, e
 in- und ausfahren in/aus Kehrwässern\, ev. traversieren und je nach Fluss
  durch\n 	paddeln von Bootsrutschen oder kleiner Abschnitte mit etwas stä
 rkerer Strömung.\n 	Je nach Wetter\, Fluss &amp\; Laune Möglichkeit ev. 
 auch mal in der Strömung zu schwimmen.\n\n\n\n 	Zum Schluss\n\n 	Aufladen
  &amp\; erneute Stärkung\n 	danach: Abhol-Information an die Eltern und R
 ücktransport zum Verein\n 	Dort: Abladen\, der Boote\nund zum Trocknen Au
 fhängen des nassen Materials ...\n\n\n 	Keine feste Zeit für's voraussic
 htliche Ende der Veranstaltung\, am WSF Neptun\, da es zu stark von den Ve
 rhältnissen vor Ort und der Anfahrts-Entfernung abhängt\;-&gt\; in jedem
  Fall aber wieder erst abends.\n\n----------------------------------\n\nVo
 rraussetzungen:\n\n 	Alter: nicht unter 10 Jahre\n 	Schwimmfähigkeit mind
 . Entspr. Jugendschimmer Bronze\n 	„Paddel-/Sportgesundheit“ (Beides a
 ls PDF/DOC) Bei Unsicherheit bitte unbedingt Rücksprache mit mir halten!!
 ! -&gt\; Nicht heimlich hoffen\, dass es sicherlich gut gehen wird!!!\n 	N
 eugier und Lust in der Gruppe zu paddeln und möglichst auch Interesse am 
 Jugendtraining\n\nMitzubringendes Material:\n\n 	unbedingt:\n1. Wetterang
 epasste Kleidung inkl. Schuhe für davor und danach + bei Bedarf: Sonnencr
 eme\, Brillenband\, notwendige Medikamente (Allergie/Athma\, ...)\n2. Bade
 sachen ...\n3. inkl. rundum geschlossener Schuhe\, die nass werden dürfen
 \, beim Schwimmen sicher am Fuß bleiben und keine übermäßig große Soh
 le haben! (Wasserschuhe\, Neoprenfüßlinge\, alte Turnschuhe mit dünner 
 Sohle ... -&gt\; bitte KEINE Crogs!\n 	Falls vorhanden (nicht extra kaufen
 ! -&gt\; kann auch vom Verein geliehen werden ... passt [und riecht] dann 
 nur ev. weniger gut \;-)\n-&gt\; ebenfalls für das Paddeln nötig:\n1. Re
 genjacke mit möglichst dicht abschließenden Bündchen ...\,-&gt\; als Wi
 ndschutz\, gegen Auskühlung\, im nassen Zustand ...\n2. Dünner Fleece-Pu
 lli/-Jacke o. Funktions-Unterwäsche (lang)\, oder Neopren ... -&gt\; als 
 auch im feuchten Zustand wärmende Schicht.\n\n\n&nbsp\;\nKontakt\n\n[form
  id="2393"]
ATTACH;FMTTYPE=image/jpeg:https://wsf-neptun-koeln.de/wp-content/uploads/2
 024/02/2022_05_25_214724_C-e1738957527264.jpg
CATEGORIES:Kurse und Trainings,Tag der offenen Tür
LOCATION:WSF Neptun (Treffen) + Fühlingersee\, Düsseldorfer Str. 75\,   K
 öln\, 51063\, Deutschland
X-APPLE-STRUCTURED-LOCATION;VALUE=URI;X-ADDRESS=Düsseldorfer Str. 75\,   K
 öln\, 51063\, Deutschland;X-APPLE-RADIUS=100;X-TITLE=WSF Neptun (Treffen)
  + Fühlingersee:geo:0,0
END:VEVENT
END:VCALENDAR